Package: drugTargetInteractions Version: 1.14.0 Command: /home/biocbuild/bbs-3.20-bioc/R/bin/R CMD INSTALL drugTargetInteractions StartedAt: 2025-03-31 15:32:18 -0400 (Mon, 31 Mar 2025) EndedAt: 2025-03-31 15:32:55 -0400 (Mon, 31 Mar 2025) EllapsedTime: 36.6 seconds RetCode: 0 Status: OK