Package: dreamlet Version: 1.4.1 Command: /home/biocbuild/R/R/bin/R CMD INSTALL dreamlet StartedAt: 2025-03-31 21:10:40 -0000 (Mon, 31 Mar 2025) EndedAt: 2025-03-31 21:12:11 -0000 (Mon, 31 Mar 2025) EllapsedTime: 90.7 seconds RetCode: 0 Status: OK