Package: dreamlet Version: 1.4.1 Command: /home/biocbuild/R/R/bin/R CMD build --keep-empty-dirs --no-resave-data dreamlet StartedAt: 2025-03-31 23:11:17 -0000 (Mon, 31 Mar 2025) EndedAt: 2025-03-31 23:21:06 -0000 (Mon, 31 Mar 2025) EllapsedTime: 589.3 seconds RetCode: 0 Status: OK PackageFile: dreamlet_1.4.1.tar.gz PackageFileSize: 3.473 MiB