Package: dreamlet Version: 1.4.1 Command: chmod a+r dreamlet -R && F:\biocbuild\bbs-3.20-bioc\R\bin\R.exe CMD build --keep-empty-dirs --no-resave-data dreamlet StartedAt: 2025-03-31 18:35:51 -0400 (Mon, 31 Mar 2025) EndedAt: 2025-03-31 18:45:12 -0400 (Mon, 31 Mar 2025) EllapsedTime: 561.1 seconds RetCode: 0 Status: OK PackageFile: dreamlet_1.4.1.tar.gz PackageFileSize: 2.994 MiB