Package: dreamlet Version: 1.4.1 Command: rm -rf dreamlet.buildbin-libdir && mkdir dreamlet.buildbin-libdir && F:\biocbuild\bbs-3.20-bioc\R\bin\R.exe CMD INSTALL --build --library=dreamlet.buildbin-libdir dreamlet_1.4.1.tar.gz StartedAt: 2025-04-01 08:06:51 -0400 (Tue, 01 Apr 2025) EndedAt: 2025-04-01 08:08:29 -0400 (Tue, 01 Apr 2025) EllapsedTime: 97.3 seconds RetCode: 0 Status: OK PackageFile: dreamlet_1.4.1.zip PackageFileSize: 3.835 MiB