Package: dreamlet Version: 1.4.1 Command: /home/biocbuild/bbs-3.20-bioc/R/bin/R CMD INSTALL dreamlet StartedAt: 2025-03-31 16:00:43 -0400 (Mon, 31 Mar 2025) EndedAt: 2025-03-31 16:01:54 -0400 (Mon, 31 Mar 2025) EllapsedTime: 70.3 seconds RetCode: 0 Status: OK