Package: dreamlet Version: 1.4.1 Command: /home/biocbuild/bbs-3.20-bioc/R/bin/R CMD build --keep-empty-dirs --no-resave-data --md5 dreamlet StartedAt: 2025-03-31 17:05:29 -0400 (Mon, 31 Mar 2025) EndedAt: 2025-03-31 17:11:44 -0400 (Mon, 31 Mar 2025) EllapsedTime: 374.5 seconds RetCode: 0 Status: OK PackageFile: dreamlet_1.4.1.tar.gz PackageFileSize: 4.346 MiB