Package: dreamlet Version: 1.4.1 Command: /Library/Frameworks/R.framework/Resources/bin/R CMD build --keep-empty-dirs --no-resave-data dreamlet StartedAt: 2025-03-31 18:26:30 -0400 (Mon, 31 Mar 2025) EndedAt: 2025-03-31 18:40:55 -0400 (Mon, 31 Mar 2025) EllapsedTime: 864.4 seconds RetCode: 0 Status: OK PackageFile: dreamlet_1.4.1.tar.gz PackageFileSize: 4.407 MiB