Package: dreamlet Version: 1.4.1 Command: /Library/Frameworks/R.framework/Resources/bin/R CMD check --install=check:dreamlet.install-out.txt --library=/Library/Frameworks/R.framework/Resources/library --no-vignettes --timings dreamlet_1.4.1.tar.gz StartedAt: 2025-04-01 17:48:00 -0400 (Tue, 01 Apr 2025) EndedAt: 2025-04-01 17:59:21 -0400 (Tue, 01 Apr 2025) EllapsedTime: 681.4 seconds RetCode: 0 Status: OK CheckDir: dreamlet.Rcheck Warnings: 0