Package: drawProteins Version: 1.26.0 Command: /Library/Frameworks/R.framework/Resources/bin/R CMD INSTALL drawProteins StartedAt: 2025-03-31 15:12:20 -0400 (Mon, 31 Mar 2025) EndedAt: 2025-03-31 15:12:33 -0400 (Mon, 31 Mar 2025) EllapsedTime: 13.5 seconds RetCode: 0 Status: OK