Package: doubletrouble Version: 1.6.1 Command: /home/biocbuild/R/R/bin/R CMD build --keep-empty-dirs --no-resave-data doubletrouble StartedAt: 2025-03-31 23:10:48 -0000 (Mon, 31 Mar 2025) EndedAt: 2025-03-31 23:12:34 -0000 (Mon, 31 Mar 2025) EllapsedTime: 106.1 seconds RetCode: 0 Status: OK PackageFile: doubletrouble_1.6.1.tar.gz PackageFileSize: 4.374 MiB