Package: doubletrouble Version: 1.6.1 Command: rm -rf doubletrouble.buildbin-libdir && mkdir doubletrouble.buildbin-libdir && F:\biocbuild\bbs-3.20-bioc\R\bin\R.exe CMD INSTALL --build --library=doubletrouble.buildbin-libdir doubletrouble_1.6.1.tar.gz StartedAt: 2025-04-01 08:06:47 -0400 (Tue, 01 Apr 2025) EndedAt: 2025-04-01 08:07:50 -0400 (Tue, 01 Apr 2025) EllapsedTime: 62.2 seconds RetCode: 0 Status: OK PackageFile: doubletrouble_1.6.1.zip PackageFileSize: 4.321 MiB