Package: doubletrouble Version: 1.6.1 Command: /Library/Frameworks/R.framework/Resources/bin/R CMD build --keep-empty-dirs --no-resave-data doubletrouble StartedAt: 2025-03-31 18:25:54 -0400 (Mon, 31 Mar 2025) EndedAt: 2025-03-31 18:28:46 -0400 (Mon, 31 Mar 2025) EllapsedTime: 172.9 seconds RetCode: 0 Status: OK PackageFile: doubletrouble_1.6.1.tar.gz PackageFileSize: 4.829 MiB