Package: doseR Version: 1.22.0 Command: /Library/Frameworks/R.framework/Resources/bin/R CMD INSTALL doseR StartedAt: 2025-03-31 15:49:19 -0400 (Mon, 31 Mar 2025) EndedAt: 2025-03-31 15:50:01 -0400 (Mon, 31 Mar 2025) EllapsedTime: 41.8 seconds RetCode: 0 Status: OK