Package: doppelgangR Version: 1.34.0 Command: /home/biocbuild/R/R/bin/R CMD build --keep-empty-dirs --no-resave-data doppelgangR StartedAt: 2025-03-31 23:10:16 -0000 (Mon, 31 Mar 2025) EndedAt: 2025-03-31 23:12:34 -0000 (Mon, 31 Mar 2025) EllapsedTime: 138.1 seconds RetCode: 0 Status: OK PackageFile: doppelgangR_1.34.0.tar.gz PackageFileSize: 378.3 KiB