Package: dominoSignal Version: 1.0.0 Command: F:\biocbuild\bbs-3.20-bioc\R\bin\R.exe CMD INSTALL dominoSignal StartedAt: 2025-03-31 17:01:38 -0400 (Mon, 31 Mar 2025) EndedAt: 2025-03-31 17:02:43 -0400 (Mon, 31 Mar 2025) EllapsedTime: 64.5 seconds RetCode: 0 Status: OK