Package: dominoSignal Version: 1.0.0 Command: chmod a+r dominoSignal -R && F:\biocbuild\bbs-3.20-bioc\R\bin\R.exe CMD build --keep-empty-dirs --no-resave-data dominoSignal StartedAt: 2025-03-31 18:34:39 -0400 (Mon, 31 Mar 2025) EndedAt: 2025-03-31 18:37:45 -0400 (Mon, 31 Mar 2025) EllapsedTime: 186.1 seconds RetCode: 0 Status: OK PackageFile: dominoSignal_1.0.0.tar.gz PackageFileSize: 630.4 KiB