Package: dominoSignal Version: 1.0.0 Command: rm -rf dominoSignal.buildbin-libdir && mkdir dominoSignal.buildbin-libdir && /Users/biocbuild/BBS/utils/build-universal.sh dominoSignal_1.0.0.tar.gz /Library/Frameworks/R.framework/Resources/bin/R dominoSignal.buildbin-libdir StartedAt: 2025-04-01 11:47:39 -0400 (Tue, 01 Apr 2025) EndedAt: 2025-04-01 11:48:35 -0400 (Tue, 01 Apr 2025) EllapsedTime: 56.0 seconds RetCode: 0 Status: OK PackageFile: dominoSignal_1.0.0.tgz PackageFileSize: 1.455 MiB