Package: dks Version: 1.52.0 Command: /home/biocbuild/R/R/bin/R CMD INSTALL dks StartedAt: 2025-03-31 20:12:47 -0000 (Mon, 31 Mar 2025) EndedAt: 2025-03-31 20:13:31 -0000 (Mon, 31 Mar 2025) EllapsedTime: 44.3 seconds RetCode: 0 Status: OK