Package: dks Version: 1.52.0 Command: /Library/Frameworks/R.framework/Resources/bin/R CMD build --keep-empty-dirs --no-resave-data dks StartedAt: 2025-03-31 18:21:39 -0400 (Mon, 31 Mar 2025) EndedAt: 2025-03-31 18:22:09 -0400 (Mon, 31 Mar 2025) EllapsedTime: 30.1 seconds RetCode: 0 Status: OK PackageFile: dks_1.52.0.tar.gz PackageFileSize: 601.3 KiB