Package: distinct Version: 1.18.0 Command: /home/biocbuild/R/R/bin/R CMD INSTALL distinct StartedAt: 2025-03-31 21:03:15 -0000 (Mon, 31 Mar 2025) EndedAt: 2025-03-31 21:04:55 -0000 (Mon, 31 Mar 2025) EllapsedTime: 100.2 seconds RetCode: 0 Status: OK