Package: distinct Version: 1.18.0 Command: /home/biocbuild/bbs-3.20-bioc/R/bin/R CMD INSTALL distinct StartedAt: 2025-03-31 15:53:27 -0400 (Mon, 31 Mar 2025) EndedAt: 2025-03-31 15:54:34 -0400 (Mon, 31 Mar 2025) EllapsedTime: 67.2 seconds RetCode: 0 Status: OK