Package: distinct Version: 1.18.0 Command: /Library/Frameworks/R.framework/Resources/bin/R CMD check --install=check:distinct.install-out.txt --library=/Library/Frameworks/R.framework/Resources/library --no-vignettes --timings distinct_1.18.0.tar.gz StartedAt: 2025-04-01 02:13:43 -0400 (Tue, 01 Apr 2025) EndedAt: 2025-04-01 02:24:06 -0400 (Tue, 01 Apr 2025) EllapsedTime: 622.2 seconds RetCode: 0 Status: OK CheckDir: distinct.Rcheck Warnings: 0