Package: distinct Version: 1.18.0 Command: /Library/Frameworks/R.framework/Resources/bin/R CMD build --keep-empty-dirs --no-resave-data distinct StartedAt: 2025-03-31 18:21:23 -0400 (Mon, 31 Mar 2025) EndedAt: 2025-03-31 18:27:48 -0400 (Mon, 31 Mar 2025) EllapsedTime: 385.4 seconds RetCode: 0 Status: OK PackageFile: distinct_1.18.0.tar.gz PackageFileSize: 1.86 MiB