Package: dir.expiry Version: 1.14.0 Command: /home/biocbuild/R/R/bin/R CMD build --keep-empty-dirs --no-resave-data dir.expiry StartedAt: 2025-03-31 23:07:06 -0000 (Mon, 31 Mar 2025) EndedAt: 2025-03-31 23:07:12 -0000 (Mon, 31 Mar 2025) EllapsedTime: 6.0 seconds RetCode: 0 Status: OK PackageFile: dir.expiry_1.14.0.tar.gz PackageFileSize: 366.6 KiB