Package: dir.expiry Version: 1.14.0 Command: rm -rf dir.expiry.buildbin-libdir && mkdir dir.expiry.buildbin-libdir && F:\biocbuild\bbs-3.20-bioc\R\bin\R.exe CMD INSTALL --build --library=dir.expiry.buildbin-libdir dir.expiry_1.14.0.tar.gz StartedAt: 2025-04-01 08:05:34 -0400 (Tue, 01 Apr 2025) EndedAt: 2025-04-01 08:05:55 -0400 (Tue, 01 Apr 2025) EllapsedTime: 20.8 seconds RetCode: 0 Status: OK PackageFile: dir.expiry_1.14.0.zip PackageFileSize: 320.2 KiB