Package: dinoR Version: 1.2.0 Command: /Library/Frameworks/R.framework/Resources/bin/R CMD build --keep-empty-dirs --no-resave-data dinoR StartedAt: 2025-03-31 18:20:29 -0400 (Mon, 31 Mar 2025) EndedAt: 2025-03-31 18:23:27 -0400 (Mon, 31 Mar 2025) EllapsedTime: 178.8 seconds RetCode: 0 Status: OK PackageFile: dinoR_1.2.0.tar.gz PackageFileSize: 3.239 MiB