Package: dinoR Version: 1.2.0 Command: /Library/Frameworks/R.framework/Resources/bin/R CMD build --keep-empty-dirs --no-resave-data dinoR StartedAt: 2025-03-31 22:36:10 -0400 (Mon, 31 Mar 2025) EndedAt: 2025-03-31 22:37:34 -0400 (Mon, 31 Mar 2025) EllapsedTime: 83.6 seconds RetCode: 0 Status: OK PackageFile: dinoR_1.2.0.tar.gz PackageFileSize: 3.24 MiB