Package: destiny Version: 3.20.0 Command: rm -rf destiny.buildbin-libdir && mkdir destiny.buildbin-libdir && /Users/biocbuild/BBS/utils/build-universal.sh destiny_3.20.0.tar.gz /Library/Frameworks/R.framework/Resources/bin/R destiny.buildbin-libdir StartedAt: 2025-04-02 14:04:50 -0400 (Wed, 02 Apr 2025) EndedAt: 2025-04-02 14:05:49 -0400 (Wed, 02 Apr 2025) EllapsedTime: 59.1 seconds RetCode: 0 Status: OK PackageFile: destiny_3.20.0.tgz PackageFileSize: 1.851 MiB