Package: derfinderPlot Version: 1.40.0 Command: /home/biocbuild/R/R/bin/R CMD INSTALL derfinderPlot StartedAt: 2025-03-31 20:48:42 -0000 (Mon, 31 Mar 2025) EndedAt: 2025-03-31 20:49:45 -0000 (Mon, 31 Mar 2025) EllapsedTime: 63.2 seconds RetCode: 0 Status: OK