Package: derfinderPlot Version: 1.40.0 Command: /home/biocbuild/R/R/bin/R CMD build --keep-empty-dirs --no-resave-data derfinderPlot StartedAt: 2025-03-31 23:03:01 -0000 (Mon, 31 Mar 2025) EndedAt: 2025-03-31 23:06:56 -0000 (Mon, 31 Mar 2025) EllapsedTime: 235.1 seconds RetCode: 0 Status: OK PackageFile: derfinderPlot_1.40.0.tar.gz PackageFileSize: 1.132 MiB