Package: derfinder Version: 1.40.0 Command: /home/biocbuild/R/R/bin/R CMD build --keep-empty-dirs --no-resave-data derfinder StartedAt: 2025-03-31 23:02:55 -0000 (Mon, 31 Mar 2025) EndedAt: 2025-03-31 23:09:44 -0000 (Mon, 31 Mar 2025) EllapsedTime: 409.2 seconds RetCode: 0 Status: OK PackageFile: derfinder_1.40.0.tar.gz PackageFileSize: 1.419 MiB