Package: derfinder Version: 1.40.0 Command: /home/biocbuild/bbs-3.20-bioc/R/bin/R CMD INSTALL derfinder StartedAt: 2025-03-31 15:36:13 -0400 (Mon, 31 Mar 2025) EndedAt: 2025-03-31 15:36:56 -0400 (Mon, 31 Mar 2025) EllapsedTime: 42.8 seconds RetCode: 0 Status: OK