Package: derfinder Version: 1.40.0 Command: /Library/Frameworks/R.framework/Resources/bin/R CMD INSTALL derfinder StartedAt: 2025-03-31 15:53:48 -0400 (Mon, 31 Mar 2025) EndedAt: 2025-03-31 15:55:21 -0400 (Mon, 31 Mar 2025) EllapsedTime: 92.6 seconds RetCode: 0 Status: OK