Package: derfinder Version: 1.40.0 Command: /Library/Frameworks/R.framework/Resources/bin/R CMD build --keep-empty-dirs --no-resave-data derfinder StartedAt: 2025-03-31 18:14:07 -0400 (Mon, 31 Mar 2025) EndedAt: 2025-03-31 18:26:44 -0400 (Mon, 31 Mar 2025) EllapsedTime: 756.7 seconds RetCode: 0 Status: OK PackageFile: derfinder_1.40.0.tar.gz PackageFileSize: 2.01 MiB