Package: derfinder Version: 1.40.0 Command: /Library/Frameworks/R.framework/Resources/bin/R CMD INSTALL derfinder StartedAt: 2025-03-31 16:39:52 -0400 (Mon, 31 Mar 2025) EndedAt: 2025-03-31 16:40:44 -0400 (Mon, 31 Mar 2025) EllapsedTime: 51.9 seconds RetCode: 0 Status: OK