Package: derfinder Version: 1.40.0 Command: /Library/Frameworks/R.framework/Resources/bin/R CMD check --install=check:derfinder.install-out.txt --library=/Library/Frameworks/R.framework/Resources/library --no-vignettes --timings derfinder_1.40.0.tar.gz StartedAt: 2025-04-01 17:06:18 -0400 (Tue, 01 Apr 2025) EndedAt: 2025-04-01 17:17:29 -0400 (Tue, 01 Apr 2025) EllapsedTime: 671.1 seconds RetCode: 0 Status: OK CheckDir: derfinder.Rcheck Warnings: 0