Package: densvis Version: 1.16.0 Command: /home/biocbuild/bbs-3.20-bioc/R/bin/R CMD build --keep-empty-dirs --no-resave-data --md5 densvis StartedAt: 2025-03-31 16:58:57 -0400 (Mon, 31 Mar 2025) EndedAt: 2025-03-31 17:00:17 -0400 (Mon, 31 Mar 2025) EllapsedTime: 80.0 seconds RetCode: 0 Status: OK PackageFile: densvis_1.16.0.tar.gz PackageFileSize: 1.673 MiB