Package: demuxmix Version: 1.8.0 Command: /Library/Frameworks/R.framework/Resources/bin/R CMD INSTALL demuxmix StartedAt: 2025-03-31 15:32:26 -0400 (Mon, 31 Mar 2025) EndedAt: 2025-03-31 15:32:38 -0400 (Mon, 31 Mar 2025) EllapsedTime: 12.2 seconds RetCode: 0 Status: OK