Package: demuxSNP Version: 1.4.0 Command: /home/biocbuild/R/R/bin/R CMD INSTALL demuxSNP StartedAt: 2025-03-31 20:34:58 -0000 (Mon, 31 Mar 2025) EndedAt: 2025-03-31 20:35:57 -0000 (Mon, 31 Mar 2025) EllapsedTime: 59.4 seconds RetCode: 0 Status: OK