Package: demuxSNP Version: 1.4.0 Command: /home/biocbuild/R/R/bin/R CMD check --install=check:demuxSNP.install-out.txt --library=/home/biocbuild/R/R/site-library --no-vignettes --timings demuxSNP_1.4.0.tar.gz StartedAt: 2025-04-01 05:48:22 -0000 (Tue, 01 Apr 2025) EndedAt: 2025-04-01 05:59:31 -0000 (Tue, 01 Apr 2025) EllapsedTime: 668.9 seconds RetCode: 0 Status: OK CheckDir: demuxSNP.Rcheck Warnings: 0