Package: demuxSNP Version: 1.4.0 Command: /home/biocbuild/R/R/bin/R CMD build --keep-empty-dirs --no-resave-data demuxSNP StartedAt: 2025-03-31 23:00:35 -0000 (Mon, 31 Mar 2025) EndedAt: 2025-03-31 23:03:28 -0000 (Mon, 31 Mar 2025) EllapsedTime: 173.1 seconds RetCode: 0 Status: OK PackageFile: demuxSNP_1.4.0.tar.gz PackageFileSize: 1.724 MiB