Package: demuxSNP Version: 1.4.0 Command: /Library/Frameworks/R.framework/Resources/bin/R CMD check --install=check:demuxSNP.install-out.txt --library=/Library/Frameworks/R.framework/Resources/library --no-vignettes --timings demuxSNP_1.4.0.tar.gz StartedAt: 2025-04-01 01:56:52 -0400 (Tue, 01 Apr 2025) EndedAt: 2025-04-01 02:15:36 -0400 (Tue, 01 Apr 2025) EllapsedTime: 1124.1 seconds RetCode: 0 Status: OK CheckDir: demuxSNP.Rcheck Warnings: 0