Package: demuxSNP Version: 1.4.0 Command: /Library/Frameworks/R.framework/Resources/bin/R CMD INSTALL demuxSNP StartedAt: 2025-03-31 16:11:36 -0400 (Mon, 31 Mar 2025) EndedAt: 2025-03-31 16:12:29 -0400 (Mon, 31 Mar 2025) EllapsedTime: 53.5 seconds RetCode: 0 Status: OK