Package: deepSNV Version: 1.52.0 Command: /home/biocbuild/R/R/bin/R CMD INSTALL deepSNV StartedAt: 2025-03-31 20:34:28 -0000 (Mon, 31 Mar 2025) EndedAt: 2025-03-31 20:35:24 -0000 (Mon, 31 Mar 2025) EllapsedTime: 55.1 seconds RetCode: 0 Status: OK