Package: deepSNV Version: 1.52.0 Command: /home/biocbuild/R/R/bin/R CMD build --keep-empty-dirs --no-resave-data deepSNV StartedAt: 2025-03-31 22:57:41 -0000 (Mon, 31 Mar 2025) EndedAt: 2025-03-31 22:59:10 -0000 (Mon, 31 Mar 2025) EllapsedTime: 89.0 seconds RetCode: 0 Status: OK PackageFile: deepSNV_1.52.0.tar.gz PackageFileSize: 2.445 MiB