Package: deepSNV Version: 1.52.0 Command: /home/biocbuild/bbs-3.20-bioc/R/bin/R CMD check --install=check:deepSNV.install-out.txt --library=/home/biocbuild/bbs-3.20-bioc/R/site-library --timings deepSNV_1.52.0.tar.gz StartedAt: 2025-03-31 21:25:26 -0400 (Mon, 31 Mar 2025) EndedAt: 2025-03-31 21:31:23 -0400 (Mon, 31 Mar 2025) EllapsedTime: 356.4 seconds RetCode: 0 Status: OK CheckDir: deepSNV.Rcheck Warnings: 0