Package: deepSNV Version: 1.52.0 Command: /Library/Frameworks/R.framework/Resources/bin/R CMD check --install=check:deepSNV.install-out.txt --library=/Library/Frameworks/R.framework/Resources/library --no-vignettes --timings deepSNV_1.52.0.tar.gz StartedAt: 2025-04-01 16:45:02 -0400 (Tue, 01 Apr 2025) EndedAt: 2025-04-01 16:50:55 -0400 (Tue, 01 Apr 2025) EllapsedTime: 352.2 seconds RetCode: 0 Status: OK CheckDir: deepSNV.Rcheck Warnings: 0