Package: decoupleR Version: 2.12.0 Command: /home/biocbuild/R/R/bin/R CMD build --keep-empty-dirs --no-resave-data decoupleR StartedAt: 2025-03-31 22:57:17 -0000 (Mon, 31 Mar 2025) EndedAt: 2025-03-31 23:00:25 -0000 (Mon, 31 Mar 2025) EllapsedTime: 188.1 seconds RetCode: 0 Status: OK PackageFile: decoupleR_2.12.0.tar.gz PackageFileSize: 4.616 MiB