Package: decoupleR Version: 2.12.0 Command: F:\biocbuild\bbs-3.20-bioc\R\bin\R.exe CMD check --no-multiarch --install=check:decoupleR.install-out.txt --library=F:\biocbuild\bbs-3.20-bioc\R\library --no-vignettes --timings decoupleR_2.12.0.tar.gz StartedAt: 2025-04-01 00:42:36 -0400 (Tue, 01 Apr 2025) EndedAt: 2025-04-01 00:54:40 -0400 (Tue, 01 Apr 2025) EllapsedTime: 723.6 seconds RetCode: 0 Status: WARNINGS CheckDir: decoupleR.Rcheck Warnings: 1